View In:
ArcMap
ArcGIS Explorer
ArcGIS JavaScript
ArcGIS.com Map
Google Earth
View Footprint In:
Google Earth
Service Description: AIVIKS Misrus pagrindas
Map Name: AIVIKS ortofoto overlay basemap
Legend
All Layers and Tables
Layers:
Description:
Copyright Text:
Spatial Reference:
3346
Single Fused Map Cache: true
Tile Info:
- Height: 256
- Width: 256
- DPI: 96
-
Levels of Detail: (# Levels 10)
-
Level ID: 0 [
Start Tile,
End Tile
]
Resolution: 793.7515875031751
Scale: 3000000.0
-
Level ID: 1 [
Start Tile,
End Tile
]
Resolution: 529.1677250021168
Scale: 2000000.0
-
Level ID: 2 [
Start Tile,
End Tile
]
Resolution: 264.5838625010584
Scale: 1000000.0
-
Level ID: 3 [
Start Tile,
End Tile
]
Resolution: 132.2919312505292
Scale: 500000.0
-
Level ID: 4 [
Start Tile,
End Tile
]
Resolution: 52.91677250021167
Scale: 200000.0
-
Level ID: 5 [
Start Tile,
End Tile
]
Resolution: 26.458386250105836
Scale: 100000.0
-
Level ID: 6 [
Start Tile,
End Tile
]
Resolution: 13.229193125052918
Scale: 50000.0
-
Level ID: 7 [
Start Tile,
End Tile
]
Resolution: 6.614596562526459
Scale: 25000.0
-
Level ID: 8 [
Start Tile,
End Tile
]
Resolution: 2.6458386250105836
Scale: 10000.0
-
Level ID: 9 [
Start Tile,
End Tile
]
Resolution: 1.3229193125052918
Scale: 5000.0
- Format: Mixed
- Compression Quality: 75
-
Origin:
X: -5122000.0
Y: 1.00001E7
-
Spatial Reference:
3346
Initial Extent:
XMin: 60862.887423786975
YMin: 5871059.019578963
XMax: 943479.7536288882
YMax: 6351014.146155882
Spatial Reference: 3346
Full Extent:
XMin: -178144.28899999987
YMin: 5786592.4849
XMax: 976880.5010000002
YMax: 6641123.0207
Spatial Reference: 3346
Units: esriMeters
Supported Image Format Types: PNG32,PNG24,PNG,JPG,DIB,TIFF,EMF,PS,PDF,GIF,SVG,SVGZ,BMP
Document Info:
- Title:
- Author:
- Comments:
- Subject:
- Category:
- Keywords:
- AntialiasingMode: Best
- TextAntialiasingMode: Force
Supported Interfaces:
REST
SOAP
Supported Operations:
Export Map
Identify
Find