{
 "currentVersion": 10.04,
 "serviceDescription": "AIVIKS Misrus pagrindas",
 "mapName": "AIVIKS ortofoto overlay basemap",
 "description": "",
 "copyrightText": "",
 "layers": [
  {
   "id": 0,
   "name": "3000000",
   "parentLayerId": -1,
   "defaultVisibility": true,
   "subLayerIds": [
    1,
    2,
    3
   ],
   "minScale": 3000000,
   "maxScale": 2000001
  },
  {
   "id": 1,
   "name": "VIETOV_U",
   "parentLayerId": 0,
   "defaultVisibility": true,
   "subLayerIds": null,
   "minScale": 0,
   "maxScale": 0
  },
  {
   "id": 2,
   "name": "country_l",
   "parentLayerId": 0,
   "defaultVisibility": true,
   "subLayerIds": null,
   "minScale": 0,
   "maxScale": 0
  },
  {
   "id": 3,
   "name": "KELIAI_1",
   "parentLayerId": 0,
   "defaultVisibility": true,
   "subLayerIds": null,
   "minScale": 0,
   "maxScale": 0
  },
  {
   "id": 4,
   "name": "2000000",
   "parentLayerId": -1,
   "defaultVisibility": true,
   "subLayerIds": [
    5,
    6,
    7,
    8
   ],
   "minScale": 2000000,
   "maxScale": 1000001
  },
  {
   "id": 5,
   "name": "VIETOV_U",
   "parentLayerId": 4,
   "defaultVisibility": true,
   "subLayerIds": null,
   "minScale": 0,
   "maxScale": 0
  },
  {
   "id": 6,
   "name": "country_l",
   "parentLayerId": 4,
   "defaultVisibility": true,
   "subLayerIds": null,
   "minScale": 0,
   "maxScale": 0
  },
  {
   "id": 7,
   "name": "KELIAI_1",
   "parentLayerId": 4,
   "defaultVisibility": true,
   "subLayerIds": null,
   "minScale": 0,
   "maxScale": 0
  },
  {
   "id": 8,
   "name": "keliai",
   "parentLayerId": 4,
   "defaultVisibility": true,
   "subLayerIds": null,
   "minScale": 0,
   "maxScale": 0
  },
  {
   "id": 9,
   "name": "1000000",
   "parentLayerId": -1,
   "defaultVisibility": true,
   "subLayerIds": [
    10,
    11,
    12,
    13,
    14
   ],
   "minScale": 1000000,
   "maxScale": 500001
  },
  {
   "id": 10,
   "name": "VIETOV_U",
   "parentLayerId": 9,
   "defaultVisibility": true,
   "subLayerIds": null,
   "minScale": 0,
   "maxScale": 0
  },
  {
   "id": 11,
   "name": "country_l",
   "parentLayerId": 9,
   "defaultVisibility": true,
   "subLayerIds": null,
   "minScale": 0,
   "maxScale": 0
  },
  {
   "id": 12,
   "name": "KELIAI_1",
   "parentLayerId": 9,
   "defaultVisibility": true,
   "subLayerIds": null,
   "minScale": 0,
   "maxScale": 0
  },
  {
   "id": 13,
   "name": "keliai",
   "parentLayerId": 9,
   "defaultVisibility": true,
   "subLayerIds": null,
   "minScale": 0,
   "maxScale": 0
  },
  {
   "id": 14,
   "name": "PLOTAI",
   "parentLayerId": 9,
   "defaultVisibility": true,
   "subLayerIds": null,
   "minScale": 0,
   "maxScale": 0
  },
  {
   "id": 15,
   "name": "500000",
   "parentLayerId": -1,
   "defaultVisibility": true,
   "subLayerIds": [
    16,
    17,
    18,
    19,
    20
   ],
   "minScale": 500000,
   "maxScale": 200001
  },
  {
   "id": 16,
   "name": "VIETOV_U",
   "parentLayerId": 15,
   "defaultVisibility": true,
   "subLayerIds": null,
   "minScale": 0,
   "maxScale": 0
  },
  {
   "id": 17,
   "name": "country_l",
   "parentLayerId": 15,
   "defaultVisibility": true,
   "subLayerIds": null,
   "minScale": 0,
   "maxScale": 0
  },
  {
   "id": 18,
   "name": "KELIAI_1",
   "parentLayerId": 15,
   "defaultVisibility": true,
   "subLayerIds": null,
   "minScale": 0,
   "maxScale": 0
  },
  {
   "id": 19,
   "name": "keliai",
   "parentLayerId": 15,
   "defaultVisibility": true,
   "subLayerIds": null,
   "minScale": 0,
   "maxScale": 0
  },
  {
   "id": 20,
   "name": "PLOTAI",
   "parentLayerId": 15,
   "defaultVisibility": true,
   "subLayerIds": null,
   "minScale": 0,
   "maxScale": 0
  },
  {
   "id": 21,
   "name": "200000",
   "parentLayerId": -1,
   "defaultVisibility": true,
   "subLayerIds": [
    22,
    23,
    24,
    25,
    26,
    27,
    28
   ],
   "minScale": 200000,
   "maxScale": 100001
  },
  {
   "id": 22,
   "name": "VIETOV_U",
   "parentLayerId": 21,
   "defaultVisibility": true,
   "subLayerIds": null,
   "minScale": 0,
   "maxScale": 0
  },
  {
   "id": 23,
   "name": "country_l",
   "parentLayerId": 21,
   "defaultVisibility": true,
   "subLayerIds": null,
   "minScale": 0,
   "maxScale": 0
  },
  {
   "id": 24,
   "name": "KELIAI_1",
   "parentLayerId": 21,
   "defaultVisibility": true,
   "subLayerIds": null,
   "minScale": 0,
   "maxScale": 0
  },
  {
   "id": 25,
   "name": "keliai",
   "parentLayerId": 21,
   "defaultVisibility": true,
   "subLayerIds": null,
   "minScale": 0,
   "maxScale": 0
  },
  {
   "id": 26,
   "name": "GELEZINK",
   "parentLayerId": 21,
   "defaultVisibility": true,
   "subLayerIds": null,
   "minScale": 0,
   "maxScale": 0
  },
  {
   "id": 27,
   "name": "HIDRO_L",
   "parentLayerId": 21,
   "defaultVisibility": true,
   "subLayerIds": null,
   "minScale": 0,
   "maxScale": 0
  },
  {
   "id": 28,
   "name": "PLOTAI",
   "parentLayerId": 21,
   "defaultVisibility": true,
   "subLayerIds": null,
   "minScale": 0,
   "maxScale": 0
  },
  {
   "id": 29,
   "name": "100000",
   "parentLayerId": -1,
   "defaultVisibility": true,
   "subLayerIds": [
    30,
    31,
    32,
    33,
    34,
    35,
    36
   ],
   "minScale": 100000,
   "maxScale": 50001
  },
  {
   "id": 30,
   "name": "VIETOV_U",
   "parentLayerId": 29,
   "defaultVisibility": true,
   "subLayerIds": null,
   "minScale": 0,
   "maxScale": 0
  },
  {
   "id": 31,
   "name": "country_l",
   "parentLayerId": 29,
   "defaultVisibility": true,
   "subLayerIds": null,
   "minScale": 0,
   "maxScale": 0
  },
  {
   "id": 32,
   "name": "KELIAI_1",
   "parentLayerId": 29,
   "defaultVisibility": true,
   "subLayerIds": null,
   "minScale": 0,
   "maxScale": 0
  },
  {
   "id": 33,
   "name": "keliai",
   "parentLayerId": 29,
   "defaultVisibility": true,
   "subLayerIds": null,
   "minScale": 0,
   "maxScale": 0
  },
  {
   "id": 34,
   "name": "GELEZINK",
   "parentLayerId": 29,
   "defaultVisibility": true,
   "subLayerIds": null,
   "minScale": 0,
   "maxScale": 0
  },
  {
   "id": 35,
   "name": "HIDRO_L",
   "parentLayerId": 29,
   "defaultVisibility": true,
   "subLayerIds": null,
   "minScale": 0,
   "maxScale": 0
  },
  {
   "id": 36,
   "name": "PLOTAI",
   "parentLayerId": 29,
   "defaultVisibility": true,
   "subLayerIds": null,
   "minScale": 0,
   "maxScale": 0
  },
  {
   "id": 37,
   "name": "50000",
   "parentLayerId": -1,
   "defaultVisibility": true,
   "subLayerIds": [
    38,
    39,
    40,
    41,
    42,
    43,
    44,
    45
   ],
   "minScale": 50000,
   "maxScale": 25001
  },
  {
   "id": 38,
   "name": "VIETOV_U",
   "parentLayerId": 37,
   "defaultVisibility": true,
   "subLayerIds": null,
   "minScale": 0,
   "maxScale": 0
  },
  {
   "id": 39,
   "name": "ribos_p_st",
   "parentLayerId": 37,
   "defaultVisibility": true,
   "subLayerIds": null,
   "minScale": 0,
   "maxScale": 0
  },
  {
   "id": 40,
   "name": "country_l",
   "parentLayerId": 37,
   "defaultVisibility": true,
   "subLayerIds": null,
   "minScale": 0,
   "maxScale": 0
  },
  {
   "id": 41,
   "name": "KELIAI_1",
   "parentLayerId": 37,
   "defaultVisibility": true,
   "subLayerIds": null,
   "minScale": 0,
   "maxScale": 0
  },
  {
   "id": 42,
   "name": "keliai",
   "parentLayerId": 37,
   "defaultVisibility": true,
   "subLayerIds": null,
   "minScale": 0,
   "maxScale": 0
  },
  {
   "id": 43,
   "name": "GELEZINK",
   "parentLayerId": 37,
   "defaultVisibility": true,
   "subLayerIds": null,
   "minScale": 0,
   "maxScale": 0
  },
  {
   "id": 44,
   "name": "HIDRO_L",
   "parentLayerId": 37,
   "defaultVisibility": true,
   "subLayerIds": null,
   "minScale": 0,
   "maxScale": 0
  },
  {
   "id": 45,
   "name": "PLOTAI",
   "parentLayerId": 37,
   "defaultVisibility": true,
   "subLayerIds": null,
   "minScale": 0,
   "maxScale": 0
  },
  {
   "id": 46,
   "name": "25000",
   "parentLayerId": -1,
   "defaultVisibility": true,
   "subLayerIds": [
    47,
    48,
    49,
    50,
    51,
    52,
    53,
    54
   ],
   "minScale": 25000,
   "maxScale": 10001
  },
  {
   "id": 47,
   "name": "VIETOV_U",
   "parentLayerId": 46,
   "defaultVisibility": true,
   "subLayerIds": null,
   "minScale": 0,
   "maxScale": 0
  },
  {
   "id": 48,
   "name": "ribos_p_st",
   "parentLayerId": 46,
   "defaultVisibility": true,
   "subLayerIds": null,
   "minScale": 0,
   "maxScale": 0
  },
  {
   "id": 49,
   "name": "country_l",
   "parentLayerId": 46,
   "defaultVisibility": true,
   "subLayerIds": null,
   "minScale": 0,
   "maxScale": 0
  },
  {
   "id": 50,
   "name": "KELIAI_1",
   "parentLayerId": 46,
   "defaultVisibility": true,
   "subLayerIds": null,
   "minScale": 0,
   "maxScale": 0
  },
  {
   "id": 51,
   "name": "keliai",
   "parentLayerId": 46,
   "defaultVisibility": true,
   "subLayerIds": null,
   "minScale": 0,
   "maxScale": 0
  },
  {
   "id": 52,
   "name": "GELEZINK",
   "parentLayerId": 46,
   "defaultVisibility": true,
   "subLayerIds": null,
   "minScale": 0,
   "maxScale": 0
  },
  {
   "id": 53,
   "name": "HIDRO_L",
   "parentLayerId": 46,
   "defaultVisibility": true,
   "subLayerIds": null,
   "minScale": 0,
   "maxScale": 0
  },
  {
   "id": 54,
   "name": "PLOTAI",
   "parentLayerId": 46,
   "defaultVisibility": true,
   "subLayerIds": null,
   "minScale": 0,
   "maxScale": 0
  },
  {
   "id": 55,
   "name": "10000",
   "parentLayerId": -1,
   "defaultVisibility": true,
   "subLayerIds": [
    56,
    57,
    58,
    59,
    60,
    61,
    62,
    63
   ],
   "minScale": 10500,
   "maxScale": 5002
  },
  {
   "id": 56,
   "name": "VIETOV_U",
   "parentLayerId": 55,
   "defaultVisibility": true,
   "subLayerIds": null,
   "minScale": 0,
   "maxScale": 0
  },
  {
   "id": 57,
   "name": "ribos_p_st",
   "parentLayerId": 55,
   "defaultVisibility": true,
   "subLayerIds": null,
   "minScale": 0,
   "maxScale": 0
  },
  {
   "id": 58,
   "name": "country_l",
   "parentLayerId": 55,
   "defaultVisibility": true,
   "subLayerIds": null,
   "minScale": 0,
   "maxScale": 0
  },
  {
   "id": 59,
   "name": "KELIAI_1",
   "parentLayerId": 55,
   "defaultVisibility": true,
   "subLayerIds": null,
   "minScale": 0,
   "maxScale": 0
  },
  {
   "id": 60,
   "name": "keliai",
   "parentLayerId": 55,
   "defaultVisibility": true,
   "subLayerIds": null,
   "minScale": 0,
   "maxScale": 0
  },
  {
   "id": 61,
   "name": "GELEZINK",
   "parentLayerId": 55,
   "defaultVisibility": true,
   "subLayerIds": null,
   "minScale": 0,
   "maxScale": 0
  },
  {
   "id": 62,
   "name": "HIDRO_L",
   "parentLayerId": 55,
   "defaultVisibility": true,
   "subLayerIds": null,
   "minScale": 0,
   "maxScale": 0
  },
  {
   "id": 63,
   "name": "PLOTAI",
   "parentLayerId": 55,
   "defaultVisibility": true,
   "subLayerIds": null,
   "minScale": 0,
   "maxScale": 0
  },
  {
   "id": 64,
   "name": "5000",
   "parentLayerId": -1,
   "defaultVisibility": true,
   "subLayerIds": [
    65,
    66,
    67,
    68,
    69,
    70,
    71,
    72
   ],
   "minScale": 5001,
   "maxScale": 5000
  },
  {
   "id": 65,
   "name": "VIETOV_U",
   "parentLayerId": 64,
   "defaultVisibility": true,
   "subLayerIds": null,
   "minScale": 0,
   "maxScale": 0
  },
  {
   "id": 66,
   "name": "ribos_p_st",
   "parentLayerId": 64,
   "defaultVisibility": true,
   "subLayerIds": null,
   "minScale": 0,
   "maxScale": 0
  },
  {
   "id": 67,
   "name": "country_l",
   "parentLayerId": 64,
   "defaultVisibility": true,
   "subLayerIds": null,
   "minScale": 0,
   "maxScale": 0
  },
  {
   "id": 68,
   "name": "KELIAI_1",
   "parentLayerId": 64,
   "defaultVisibility": true,
   "subLayerIds": null,
   "minScale": 0,
   "maxScale": 0
  },
  {
   "id": 69,
   "name": "keliai",
   "parentLayerId": 64,
   "defaultVisibility": true,
   "subLayerIds": null,
   "minScale": 0,
   "maxScale": 0
  },
  {
   "id": 70,
   "name": "GELEZINK",
   "parentLayerId": 64,
   "defaultVisibility": true,
   "subLayerIds": null,
   "minScale": 0,
   "maxScale": 0
  },
  {
   "id": 71,
   "name": "HIDRO_L",
   "parentLayerId": 64,
   "defaultVisibility": true,
   "subLayerIds": null,
   "minScale": 0,
   "maxScale": 0
  },
  {
   "id": 72,
   "name": "PLOTAI",
   "parentLayerId": 64,
   "defaultVisibility": true,
   "subLayerIds": null,
   "minScale": 0,
   "maxScale": 0
  }
 ],
 "tables": [],
 "spatialReference": {
  "wkid": 3346
 },
 "singleFusedMapCache": true,
 "tileInfo": {
  "rows": 256,
  "cols": 256,
  "dpi": 96,
  "format": "Mixed",
  "compressionQuality": 75,
  "origin": {
   "x": -5122000,
   "y": 1.00001E7
  },
  "spatialReference": {
   "wkid": 3346
  },
  "lods": [
   {
    "level": 0,
    "resolution": 793.7515875031751,
    "scale": 3000000
   },
   {
    "level": 1,
    "resolution": 529.1677250021168,
    "scale": 2000000
   },
   {
    "level": 2,
    "resolution": 264.5838625010584,
    "scale": 1000000
   },
   {
    "level": 3,
    "resolution": 132.2919312505292,
    "scale": 500000
   },
   {
    "level": 4,
    "resolution": 52.91677250021167,
    "scale": 200000
   },
   {
    "level": 5,
    "resolution": 26.458386250105836,
    "scale": 100000
   },
   {
    "level": 6,
    "resolution": 13.229193125052918,
    "scale": 50000
   },
   {
    "level": 7,
    "resolution": 6.614596562526459,
    "scale": 25000
   },
   {
    "level": 8,
    "resolution": 2.6458386250105836,
    "scale": 10000
   },
   {
    "level": 9,
    "resolution": 1.3229193125052918,
    "scale": 5000
   }
  ]
 },
 "initialExtent": {
  "xmin": 60862.887423786975,
  "ymin": 5871059.019578963,
  "xmax": 943479.7536288882,
  "ymax": 6351014.146155882,
  "spatialReference": {
   "wkid": 3346
  }
 },
 "fullExtent": {
  "xmin": -178144.28899999987,
  "ymin": 5786592.4849,
  "xmax": 976880.5010000002,
  "ymax": 6641123.0207,
  "spatialReference": {
   "wkid": 3346
  }
 },
 "units": "esriMeters",
 "supportedImageFormatTypes": "PNG32,PNG24,PNG,JPG,DIB,TIFF,EMF,PS,PDF,GIF,SVG,SVGZ,BMP",
 "documentInfo": {
  "Title": "",
  "Author": "",
  "Comments": "",
  "Subject": "",
  "Category": "",
  "Keywords": "",
  "AntialiasingMode": "Best",
  "TextAntialiasingMode": "Force"
 },
 "capabilities": "Map,Query,Data"
}
