View In:
ArcMap
ArcGIS Explorer
ArcGIS JavaScript
ArcGIS.com Map
Google Earth
View Footprint In:
Google Earth
Service Description:
Map Name: Layers
Legend
All Layers and Tables
Layers:
Description:
Copyright Text:
Spatial Reference:
3346
Single Fused Map Cache: true
Tile Info:
- Height: 256
- Width: 256
- DPI: 96
-
Levels of Detail: (# Levels 10)
-
Level ID: 0 [
Start Tile,
End Tile
]
Resolution: 793.7515875031751
Scale: 3000000.0
-
Level ID: 1 [
Start Tile,
End Tile
]
Resolution: 529.1677250021168
Scale: 2000000.0
-
Level ID: 2 [
Start Tile,
End Tile
]
Resolution: 264.5838625010584
Scale: 1000000.0
-
Level ID: 3 [
Start Tile,
End Tile
]
Resolution: 132.2919312505292
Scale: 500000.0
-
Level ID: 4 [
Start Tile,
End Tile
]
Resolution: 52.91677250021167
Scale: 200000.0
-
Level ID: 5 [
Start Tile,
End Tile
]
Resolution: 26.458386250105836
Scale: 100000.0
-
Level ID: 6 [
Start Tile,
End Tile
]
Resolution: 13.229193125052918
Scale: 50000.0
-
Level ID: 7 [
Start Tile,
End Tile
]
Resolution: 6.614596562526459
Scale: 25000.0
-
Level ID: 8 [
Start Tile,
End Tile
]
Resolution: 2.6458386250105836
Scale: 10000.0
-
Level ID: 9 [
Start Tile,
End Tile
]
Resolution: 1.3229193125052918
Scale: 5000.0
- Format: JPEG
- Compression Quality: 75
-
Origin:
X: -5122000.0
Y: 1.00001E7
-
Spatial Reference:
3346
Initial Extent:
XMin: 180347.56860988826
YMin: 5856752.213277711
XMax: 929649.0672128855
YMax: 6356021.961817207
Spatial Reference: 3346
Full Extent:
XMin: 301430.6386000002
YMin: 5968220.3642
XMax: 685203.2769999998
YMax: 6262911.152000001
Spatial Reference: 3346
Units: esriMeters
Supported Image Format Types: PNG32,PNG24,PNG,JPG,DIB,TIFF,EMF,PS,PDF,GIF,SVG,SVGZ,BMP
Document Info:
- Title: LTDBK50_zemelapis
- Author: mbernotaite
- Comments:
- Subject:
- Category:
- Keywords:
- AntialiasingMode: Best
- TextAntialiasingMode: Force
Supported Interfaces:
REST
SOAP
Supported Operations:
Export Map
Identify
Find