View In:
ArcMap
ArcGIS Explorer
ArcGIS JavaScript
ArcGIS.com Map
Google Earth
View Footprint In:
Google Earth
Service Description:
Map Name: Layers
Legend
All Layers and Tables
Layers:
- Lietuvos Respublikos upių, ežerų ir tvenkinių kadastro objektai (0)
- Ežerai, tvenkiniai, dirbtiniai nepratekami paviršinio vandens telkiniai (1)
- Ežerai, tvenkiniai, dirbtiniai nepratekami paviršinio vandens telkiniai (2)
- Ežerai, tvenkiniai, dirbtiniai nepratekami paviršinio vandens telkiniai (3)
- Ežerai, tvenkiniai, dirbtiniai nepratekami paviršinio vandens telkiniai (4)
- Ežerai, tvenkiniai, dirbtiniai nepratekami paviršinio vandens telkiniai (5)
- Ežerai, tvenkiniai, dirbtiniai nepratekami paviršinio vandens telkiniai (6)
- Ežerai, tvenkiniai, dirbtiniai nepratekami paviršinio vandens telkiniai (7)
- Ežerai, tvenkiniai, dirbtiniai nepratekami paviršinio vandens telkiniai (8)
- Ežerai, tvenkiniai, dirbtiniai nepratekami paviršinio vandens telkiniai (9)
- Ežerai, tvenkiniai, dirbtiniai nepratekami paviršinio vandens telkiniai (10)
- Upės, kanalai (11)
- Upės, kanalai (12)
- Upės, kanalai (13)
- Upės, kanalai (14)
- Upės, kanalai (15)
- Upės, kanalai (16)
- Upės, kanalai (17)
- Upės, kanalai (18)
- Upės, kanalai (19)
- Upės, kanalai (20)
Description:
Copyright Text:
Spatial Reference:
3346
Single Fused Map Cache: true
Tile Info:
- Height: 512
- Width: 512
- DPI: 96
-
Levels of Detail: (# Levels 10)
-
Level ID: 0 [
Start Tile,
End Tile
]
Resolution: 793.7515875031751
Scale: 3000000.0
-
Level ID: 1 [
Start Tile,
End Tile
]
Resolution: 529.1677250021168
Scale: 2000000.0
-
Level ID: 2 [
Start Tile,
End Tile
]
Resolution: 264.5838625010584
Scale: 1000000.0
-
Level ID: 3 [
Start Tile,
End Tile
]
Resolution: 132.2919312505292
Scale: 500000.0
-
Level ID: 4 [
Start Tile,
End Tile
]
Resolution: 52.91677250021167
Scale: 200000.0
-
Level ID: 5 [
Start Tile,
End Tile
]
Resolution: 26.458386250105836
Scale: 100000.0
-
Level ID: 6 [
Start Tile,
End Tile
]
Resolution: 13.229193125052918
Scale: 50000.0
-
Level ID: 7 [
Start Tile,
End Tile
]
Resolution: 6.614596562526459
Scale: 25000.0
-
Level ID: 8 [
Start Tile,
End Tile
]
Resolution: 2.6458386250105836
Scale: 10000.0
-
Level ID: 9 [
Start Tile,
End Tile
]
Resolution: 1.3229193125052918
Scale: 5000.0
- Format: PNG32
- Compression Quality: 0
-
Origin:
X: -5122000.0
Y: 1.00001E7
-
Spatial Reference:
3346
Initial Extent:
XMin: 372227.03044125816
YMin: 6096870.936415206
XMax: 384313.2212803064
YMax: 6113888.970451274
Spatial Reference: 3346
Full Extent:
XMin: -178144.289
YMin: 5786592.4849
XMax: 976880.501
YMax: 6641123.0207
Spatial Reference: 3346
Units: esriMeters
Supported Image Format Types: PNG24,PNG,JPG,DIB,TIFF,EMF,PS,PDF,GIF,SVG,SVGZ,AI,BMP
Document Info:
- Title:
- Author:
- Comments:
- Subject:
- Category:
- Keywords:
- Credits:
Supported Interfaces:
REST
SOAP
Supported Operations:
Export Map
Identify
Find