View In:
ArcMap
ArcGIS Explorer
ArcGIS JavaScript
ArcGIS.com Map
Google Earth
View Footprint In:
Google Earth
Service Description: Paviršinio vandens baseinų rajonai, baseinai, pabaseiniai
Map Name: Layers
Legend
All Layers and Tables
Layers:
Description:
Copyright Text:
Spatial Reference:
3346
Single Fused Map Cache: true
Tile Info:
- Height: 512
- Width: 512
- DPI: 96
-
Levels of Detail: (# Levels 10)
-
Level ID: 0 [
Start Tile,
End Tile
]
Resolution: 793.7515875031751
Scale: 3000000.0
-
Level ID: 1 [
Start Tile,
End Tile
]
Resolution: 529.1677250021168
Scale: 2000000.0
-
Level ID: 2 [
Start Tile,
End Tile
]
Resolution: 264.5838625010584
Scale: 1000000.0
-
Level ID: 3 [
Start Tile,
End Tile
]
Resolution: 132.2919312505292
Scale: 500000.0
-
Level ID: 4 [
Start Tile,
End Tile
]
Resolution: 52.91677250021167
Scale: 200000.0
-
Level ID: 5 [
Start Tile,
End Tile
]
Resolution: 26.458386250105836
Scale: 100000.0
-
Level ID: 6 [
Start Tile,
End Tile
]
Resolution: 13.229193125052918
Scale: 50000.0
-
Level ID: 7 [
Start Tile,
End Tile
]
Resolution: 6.614596562526459
Scale: 25000.0
-
Level ID: 8 [
Start Tile,
End Tile
]
Resolution: 2.6458386250105836
Scale: 10000.0
-
Level ID: 9 [
Start Tile,
End Tile
]
Resolution: 1.3229193125052918
Scale: 5000.0
- Format: PNG32
- Compression Quality: 0
-
Origin:
X: -5122000.0
Y: 1.00001E7
-
Spatial Reference:
3346
Initial Extent:
XMin: 337704.83853548014
YMin: 5970031.15991306
XMax: 639859.6095116888
YMax: 6395482.010814763
Spatial Reference: 3346
Full Extent:
XMin: 285907.58498000045
YMin: 5959064.924755
XMax: 698874.5002200002
YMax: 6272039.572345
Spatial Reference: 3346
Units: esriMeters
Supported Image Format Types: PNG24,PNG,JPG,DIB,TIFF,EMF,PS,PDF,GIF,SVG,SVGZ,AI,BMP
Document Info:
- Title:
- Author:
- Comments:
- Subject:
- Category:
- Keywords:
- Credits:
Supported Interfaces:
REST
SOAP
Supported Operations:
Export Map
Identify
Find