{
 "currentVersion": 10.04,
 "serviceDescription": "",
 "mapName": "Layers",
 "description": "",
 "copyrightText": "",
 "layers": [
  {
   "id": 0,
   "name": "Vandens telkinių tipai",
   "parentLayerId": -1,
   "defaultVisibility": true,
   "subLayerIds": [
    1,
    2,
    3,
    4,
    5,
    6,
    7
   ],
   "minScale": 0,
   "maxScale": 0
  },
  {
   "id": 1,
   "name": "Upės",
   "parentLayerId": 0,
   "defaultVisibility": true,
   "subLayerIds": null,
   "minScale": 0,
   "maxScale": 1001000
  },
  {
   "id": 2,
   "name": "Upės",
   "parentLayerId": 0,
   "defaultVisibility": true,
   "subLayerIds": null,
   "minScale": 1000000,
   "maxScale": 500001
  },
  {
   "id": 3,
   "name": "Upės",
   "parentLayerId": 0,
   "defaultVisibility": true,
   "subLayerIds": null,
   "minScale": 500000,
   "maxScale": 200001
  },
  {
   "id": 4,
   "name": "Upės",
   "parentLayerId": 0,
   "defaultVisibility": true,
   "subLayerIds": null,
   "minScale": 200000,
   "maxScale": 0
  },
  {
   "id": 5,
   "name": "Ežerai, tvenkiniai, karjerai",
   "parentLayerId": 0,
   "defaultVisibility": true,
   "subLayerIds": null,
   "minScale": 0,
   "maxScale": 0
  },
  {
   "id": 6,
   "name": "Tarpiniai vandenys",
   "parentLayerId": 0,
   "defaultVisibility": true,
   "subLayerIds": null,
   "minScale": 0,
   "maxScale": 0
  },
  {
   "id": 7,
   "name": "Priekrantės vandenys",
   "parentLayerId": 0,
   "defaultVisibility": true,
   "subLayerIds": null,
   "minScale": 0,
   "maxScale": 0
  }
 ],
 "tables": [],
 "spatialReference": {
  "wkid": 3346
 },
 "singleFusedMapCache": true,
 "tileInfo": {
  "rows": 512,
  "cols": 512,
  "dpi": 96,
  "format": "PNG32",
  "compressionQuality": 0,
  "origin": {
   "x": -5122000,
   "y": 1.00001E7
  },
  "spatialReference": {
   "wkid": 3346
  },
  "lods": [
   {
    "level": 0,
    "resolution": 793.7515875031751,
    "scale": 3000000
   },
   {
    "level": 1,
    "resolution": 529.1677250021168,
    "scale": 2000000
   },
   {
    "level": 2,
    "resolution": 264.5838625010584,
    "scale": 1000000
   },
   {
    "level": 3,
    "resolution": 132.2919312505292,
    "scale": 500000
   },
   {
    "level": 4,
    "resolution": 52.91677250021167,
    "scale": 200000
   },
   {
    "level": 5,
    "resolution": 26.458386250105836,
    "scale": 100000
   },
   {
    "level": 6,
    "resolution": 13.229193125052918,
    "scale": 50000
   },
   {
    "level": 7,
    "resolution": 6.614596562526459,
    "scale": 25000
   },
   {
    "level": 8,
    "resolution": 2.6458386250105836,
    "scale": 10000
   },
   {
    "level": 9,
    "resolution": 1.3229193125052918,
    "scale": 5000
   }
  ]
 },
 "initialExtent": {
  "xmin": 227478.34683740235,
  "ymin": 5839280.405280425,
  "xmax": 529633.1178136109,
  "ymax": 6264731.256182128,
  "spatialReference": {
   "wkid": 3346
  }
 },
 "fullExtent": {
  "xmin": -178144.289,
  "ymin": 5786592.4849,
  "xmax": 976880.501,
  "ymax": 6641123.0207,
  "spatialReference": {
   "wkid": 3346
  }
 },
 "units": "esriMeters",
 "supportedImageFormatTypes": "PNG24,PNG,JPG,DIB,TIFF,EMF,PS,PDF,GIF,SVG,SVGZ,AI,BMP",
 "documentInfo": {
  "Title": "",
  "Author": "",
  "Comments": "",
  "Subject": "",
  "Category": "",
  "Keywords": "",
  "Credits": ""
 },
 "capabilities": "Map,Query,Data"
}
