{
 "currentVersion": 10.04,
 "serviceDescription": "Požeminio vandens baseinai",
 "mapName": "Layers",
 "description": "",
 "copyrightText": "",
 "layers": [
  {
   "id": 0,
   "name": "Požeminio vandens baseinai ",
   "parentLayerId": -1,
   "defaultVisibility": true,
   "subLayerIds": [
    1
   ],
   "minScale": 0,
   "maxScale": 0
  },
  {
   "id": 1,
   "name": "Požeminio vandens baseinai ",
   "parentLayerId": 0,
   "defaultVisibility": true,
   "subLayerIds": null,
   "minScale": 0,
   "maxScale": 0
  }
 ],
 "tables": [],
 "spatialReference": {
  "wkid": 3346
 },
 "singleFusedMapCache": true,
 "tileInfo": {
  "rows": 512,
  "cols": 512,
  "dpi": 96,
  "format": "PNG32",
  "compressionQuality": 0,
  "origin": {
   "x": -5122000,
   "y": 1.00001E7
  },
  "spatialReference": {
   "wkid": 3346
  },
  "lods": [
   {
    "level": 0,
    "resolution": 793.7515875031751,
    "scale": 3000000
   },
   {
    "level": 1,
    "resolution": 529.1677250021168,
    "scale": 2000000
   },
   {
    "level": 2,
    "resolution": 264.5838625010584,
    "scale": 1000000
   },
   {
    "level": 3,
    "resolution": 132.2919312505292,
    "scale": 500000
   },
   {
    "level": 4,
    "resolution": 52.91677250021167,
    "scale": 200000
   },
   {
    "level": 5,
    "resolution": 26.458386250105836,
    "scale": 100000
   },
   {
    "level": 6,
    "resolution": 13.229193125052918,
    "scale": 50000
   },
   {
    "level": 7,
    "resolution": 6.614596562526459,
    "scale": 25000
   },
   {
    "level": 8,
    "resolution": 2.6458386250105836,
    "scale": 10000
   },
   {
    "level": 9,
    "resolution": 1.3229193125052918,
    "scale": 5000
   }
  ]
 },
 "initialExtent": {
  "xmin": 208865.3087209569,
  "ymin": 6118707.5050809225,
  "xmax": 807354.005698351,
  "ymax": 6317145.401956716,
  "spatialReference": {
   "wkid": 3346
  }
 },
 "fullExtent": {
  "xmin": 306495.87689999957,
  "ymin": 5973240.0001,
  "xmax": 680133.0601000004,
  "ymax": 6257813.452099999,
  "spatialReference": {
   "wkid": 3346
  }
 },
 "units": "esriMeters",
 "supportedImageFormatTypes": "PNG32,PNG24,PNG,JPG,DIB,TIFF,EMF,PS,PDF,GIF,SVG,SVGZ,BMP",
 "documentInfo": {
  "Title": "",
  "Author": "",
  "Comments": "",
  "Subject": "",
  "Category": "",
  "Keywords": "",
  "AntialiasingMode": "Best",
  "TextAntialiasingMode": "Force"
 },
 "capabilities": "Map,Query,Data"
}
